BEGIN:VCALENDAR
VERSION:2.0
PRODID:-//Common Folk - ECPv6.15.20//NONSGML v1.0//EN
CALSCALE:GREGORIAN
METHOD:PUBLISH
X-ORIGINAL-URL:https://commonfolk.co.nz
X-WR-CALDESC:Events for Common Folk
REFRESH-INTERVAL;VALUE=DURATION:PT1H
X-Robots-Tag:noindex
X-PUBLISHED-TTL:PT1H
BEGIN:VTIMEZONE
TZID:Pacific/Auckland
BEGIN:STANDARD
TZOFFSETFROM:+1300
TZOFFSETTO:+1200
TZNAME:NZST
DTSTART:20250405T140000
END:STANDARD
BEGIN:DAYLIGHT
TZOFFSETFROM:+1200
TZOFFSETTO:+1300
TZNAME:NZDT
DTSTART:20250927T140000
END:DAYLIGHT
BEGIN:STANDARD
TZOFFSETFROM:+1300
TZOFFSETTO:+1200
TZNAME:NZST
DTSTART:20260404T140000
END:STANDARD
BEGIN:DAYLIGHT
TZOFFSETFROM:+1200
TZOFFSETTO:+1300
TZNAME:NZDT
DTSTART:20260926T140000
END:DAYLIGHT
BEGIN:STANDARD
TZOFFSETFROM:+1300
TZOFFSETTO:+1200
TZNAME:NZST
DTSTART:20270403T140000
END:STANDARD
BEGIN:DAYLIGHT
TZOFFSETFROM:+1200
TZOFFSETTO:+1300
TZNAME:NZDT
DTSTART:20270925T140000
END:DAYLIGHT
END:VTIMEZONE
BEGIN:VEVENT
DTSTART;TZID=Pacific/Auckland:20260430T190000
DTEND;TZID=Pacific/Auckland:20260430T210000
DTSTAMP:20260420T011657
CREATED:20260416T064944Z
LAST-MODIFIED:20260416T064944Z
UID:10002361-1777575600-1777582800@commonfolk.co.nz
SUMMARY:Blues Revue 3 @ Stone Oven
DESCRIPTION:Join us for another electrifying blues performance by an incredible lineup of talented artists.
URL:https://commonfolk.co.nz/event/blues-revue-3-stone-oven/
LOCATION:Stone Oven\, 5 Clarence Street\, Devonport\, New Zealand
CATEGORIES:Blues
ATTACH;FMTTYPE=image/jpeg:https://commonfolk.co.nz/home/wp-content/uploads/2026/04/Blues-Revue-3.jpg
END:VEVENT
BEGIN:VEVENT
DTSTART;TZID=Pacific/Auckland:20260507T183000
DTEND;TZID=Pacific/Auckland:20260507T220000
DTSTAMP:20260420T011657
CREATED:20260415T034523Z
LAST-MODIFIED:20260415T034523Z
UID:10002359-1778178600-1778191200@commonfolk.co.nz
SUMMARY:Hoop @ Stone Oven
DESCRIPTION:Tāmaki Makaurau indie-folk group hoop. return to Devonport this May for a special Stone Oven show\, part of the monthly First Thursday celebrations. \nFollowing their 2025 album Wrap Me Up in Winter\, the band bring their signature blend of emotive song writing\, rich strings\, and genre-spanning folk influences to an intimate live setting. \nAt the heart of hoop. is the song writing partnership of Nick Edgar and Al Baxter. Together with Emily Allen’s soaring string arrangements and the grounded\, intuitive rhythm section of Rusty Knox (drums/percussion) and Glenn Coldham (bass)\, the band weave a textured soundscape of voices\, guitars\, flute\, banjo\, mandolin\, and harmonica. Drawing on influences from Celtic traditions to Americana\, their music feels both timeless and deeply personal. \nMake a night of it with First Thursday’s mix of workshops\, performances\, and more across the village.
URL:https://commonfolk.co.nz/event/hoop-stone-oven/
LOCATION:Stone Oven\, 5 Clarence Street\, Devonport\, New Zealand
CATEGORIES:Alt-Folk,Americana,Celtic Folk,Originals
ATTACH;FMTTYPE=image/png:https://commonfolk.co.nz/home/wp-content/uploads/2026/04/Hoop.png
END:VEVENT
END:VCALENDAR