BEGIN:VCALENDAR
VERSION:2.0
PRODID:-//Common Folk - ECPv6.15.20//NONSGML v1.0//EN
CALSCALE:GREGORIAN
METHOD:PUBLISH
X-WR-CALNAME:Common Folk
X-ORIGINAL-URL:https://commonfolk.co.nz
X-WR-CALDESC:Events for Common Folk
REFRESH-INTERVAL;VALUE=DURATION:PT1H
X-Robots-Tag:noindex
X-PUBLISHED-TTL:PT1H
BEGIN:VTIMEZONE
TZID:Pacific/Auckland
BEGIN:STANDARD
TZOFFSETFROM:+1300
TZOFFSETTO:+1200
TZNAME:NZST
DTSTART:20250405T140000
END:STANDARD
BEGIN:DAYLIGHT
TZOFFSETFROM:+1200
TZOFFSETTO:+1300
TZNAME:NZDT
DTSTART:20250927T140000
END:DAYLIGHT
BEGIN:STANDARD
TZOFFSETFROM:+1300
TZOFFSETTO:+1200
TZNAME:NZST
DTSTART:20260404T140000
END:STANDARD
BEGIN:DAYLIGHT
TZOFFSETFROM:+1200
TZOFFSETTO:+1300
TZNAME:NZDT
DTSTART:20260926T140000
END:DAYLIGHT
BEGIN:STANDARD
TZOFFSETFROM:+1300
TZOFFSETTO:+1200
TZNAME:NZST
DTSTART:20270403T140000
END:STANDARD
BEGIN:DAYLIGHT
TZOFFSETFROM:+1200
TZOFFSETTO:+1300
TZNAME:NZDT
DTSTART:20270925T140000
END:DAYLIGHT
END:VTIMEZONE
BEGIN:VEVENT
DTSTART;TZID=Pacific/Auckland:20260429T193000
DTEND;TZID=Pacific/Auckland:20260429T213000
DTSTAMP:20260420T012000
CREATED:20260416T195328Z
LAST-MODIFIED:20260416T201321Z
UID:10002362-1777491000-1777498200@commonfolk.co.nz
SUMMARY:Jan Elliott @ Botticelli
DESCRIPTION:Join us for a taste of great food\, fine wine and incredible music! \nJan and band will share acoustic guitar covers from the 60’s\, and 70’s and a some jazzy Joni Mitchell.
URL:https://commonfolk.co.nz/event/jan-elliot-botticelli/
LOCATION:Botticelli\, 8 Anzac Street\, Takapuna\, Auckland\, 0622\, New Zealand
CATEGORIES:Alt-Folk,Originals
ATTACH;FMTTYPE=image/jpeg:https://commonfolk.co.nz/home/wp-content/uploads/2026/04/9656.jpg
END:VEVENT
END:VCALENDAR