BEGIN:VCALENDAR
VERSION:2.0
PRODID:-//Common Folk - ECPv6.15.20//NONSGML v1.0//EN
CALSCALE:GREGORIAN
METHOD:PUBLISH
X-WR-CALNAME:Common Folk
X-ORIGINAL-URL:https://commonfolk.co.nz
X-WR-CALDESC:Events for Common Folk
REFRESH-INTERVAL;VALUE=DURATION:PT1H
X-Robots-Tag:noindex
X-PUBLISHED-TTL:PT1H
BEGIN:VTIMEZONE
TZID:Pacific/Auckland
BEGIN:STANDARD
TZOFFSETFROM:+1300
TZOFFSETTO:+1200
TZNAME:NZST
DTSTART:20250405T140000
END:STANDARD
BEGIN:DAYLIGHT
TZOFFSETFROM:+1200
TZOFFSETTO:+1300
TZNAME:NZDT
DTSTART:20250927T140000
END:DAYLIGHT
BEGIN:STANDARD
TZOFFSETFROM:+1300
TZOFFSETTO:+1200
TZNAME:NZST
DTSTART:20260404T140000
END:STANDARD
BEGIN:DAYLIGHT
TZOFFSETFROM:+1200
TZOFFSETTO:+1300
TZNAME:NZDT
DTSTART:20260926T140000
END:DAYLIGHT
BEGIN:STANDARD
TZOFFSETFROM:+1300
TZOFFSETTO:+1200
TZNAME:NZST
DTSTART:20270403T140000
END:STANDARD
BEGIN:DAYLIGHT
TZOFFSETFROM:+1200
TZOFFSETTO:+1300
TZNAME:NZDT
DTSTART:20270925T140000
END:DAYLIGHT
END:VTIMEZONE
BEGIN:VEVENT
DTSTART;TZID=Pacific/Auckland:20260328T180000
DTEND;TZID=Pacific/Auckland:20260328T210000
DTSTAMP:20260420T034612
CREATED:20260324T005245Z
LAST-MODIFIED:20260324T005245Z
UID:10002309-1774720800-1774731600@commonfolk.co.nz
SUMMARY:Biryani & Beats @ Sandringham Reserve
DESCRIPTION:Join us for a FREE night of music in Sandringham Reserve!6.00pm Milly Tabak7.00pm The Mollymawks8.00pm Chowringhee\n\nBring a bean bag\, pillow or your blankie\, great some delicious takeaways from a nearby store\, and settle in (or get up and dance!) to a night of great music in Sandringham!\nProudly brought to you by the Sandringham Business Association\, SPiCE and the Albert Eden Local Board.
URL:https://commonfolk.co.nz/event/biryani-beats-sandringham-reserve/
LOCATION:Sandringham Reserve\, 598 Sandringham road\, Sandringham\, Auckland\, 1025
CATEGORIES:Alt-Folk,Originals
ATTACH;FMTTYPE=image/jpeg:https://commonfolk.co.nz/home/wp-content/uploads/2026/03/647590242_1491044629726060_8521368814521445019_n.jpeg
END:VEVENT
END:VCALENDAR